BEGIN:VCALENDAR
VERSION:2.0
PRODID:-//Ledge Meadows Golf Course - ECPv6.15.20//NONSGML v1.0//EN
CALSCALE:GREGORIAN
METHOD:PUBLISH
X-ORIGINAL-URL:https://ledgemeadowsgolfcourse.com
X-WR-CALDESC:Events for Ledge Meadows Golf Course
REFRESH-INTERVAL;VALUE=DURATION:PT1H
X-Robots-Tag:noindex
X-PUBLISHED-TTL:PT1H
BEGIN:VTIMEZONE
TZID:America/Detroit
BEGIN:DAYLIGHT
TZOFFSETFROM:-0500
TZOFFSETTO:-0400
TZNAME:EDT
DTSTART:20250309T070000
END:DAYLIGHT
BEGIN:STANDARD
TZOFFSETFROM:-0400
TZOFFSETTO:-0500
TZNAME:EST
DTSTART:20251102T060000
END:STANDARD
BEGIN:DAYLIGHT
TZOFFSETFROM:-0500
TZOFFSETTO:-0400
TZNAME:EDT
DTSTART:20260308T070000
END:DAYLIGHT
BEGIN:STANDARD
TZOFFSETFROM:-0400
TZOFFSETTO:-0500
TZNAME:EST
DTSTART:20261101T060000
END:STANDARD
BEGIN:DAYLIGHT
TZOFFSETFROM:-0500
TZOFFSETTO:-0400
TZNAME:EDT
DTSTART:20270314T070000
END:DAYLIGHT
BEGIN:STANDARD
TZOFFSETFROM:-0400
TZOFFSETTO:-0500
TZNAME:EST
DTSTART:20271107T060000
END:STANDARD
END:VTIMEZONE
BEGIN:VEVENT
DTSTART;TZID=America/Detroit:20260426T100000
DTEND;TZID=America/Detroit:20260426T170000
DTSTAMP:20260422T045857
CREATED:20260325T125407Z
LAST-MODIFIED:20260421T142548Z
UID:8532-1777197600-1777222800@ledgemeadowsgolfcourse.com
SUMMARY:Big Hole Scramble: April 26
DESCRIPTION:Sign-up for the next Big Hole Scramble. This exciting two-person scramble is open to all skill levels\, with an extra fun twist — cups twice the size! \nDate: Sunday\, April 26\, 10:00 am shotgun \nTee Assignments:  \n\nMen: Silver Tees\nSeniors 50+: Golf Tees\nSuper Seniors 75+: Red Tees\nLadies: Red Tees\n\n$60 per player – includes 18 holes with cart\, lunch\, prizes and skins \n\nThis event has filled.  Please call the pro shop directly at 517-627-7492 with questions.
URL:https://ledgemeadowsgolfcourse.com/event/big-hole-scramble-april-26/
END:VEVENT
END:VCALENDAR