BEGIN:VCALENDAR
VERSION:2.0
PRODID:-//Ledge Meadows Golf Course - ECPv6.15.20//NONSGML v1.0//EN
CALSCALE:GREGORIAN
METHOD:PUBLISH
X-WR-CALNAME:Ledge Meadows Golf Course
X-ORIGINAL-URL:https://ledgemeadowsgolfcourse.com
X-WR-CALDESC:Events for Ledge Meadows Golf Course
REFRESH-INTERVAL;VALUE=DURATION:PT1H
X-Robots-Tag:noindex
X-PUBLISHED-TTL:PT1H
BEGIN:VTIMEZONE
TZID:America/Detroit
BEGIN:DAYLIGHT
TZOFFSETFROM:-0500
TZOFFSETTO:-0400
TZNAME:EDT
DTSTART:20200308T070000
END:DAYLIGHT
BEGIN:STANDARD
TZOFFSETFROM:-0400
TZOFFSETTO:-0500
TZNAME:EST
DTSTART:20201101T060000
END:STANDARD
BEGIN:DAYLIGHT
TZOFFSETFROM:-0500
TZOFFSETTO:-0400
TZNAME:EDT
DTSTART:20210314T070000
END:DAYLIGHT
BEGIN:STANDARD
TZOFFSETFROM:-0400
TZOFFSETTO:-0500
TZNAME:EST
DTSTART:20211107T060000
END:STANDARD
BEGIN:DAYLIGHT
TZOFFSETFROM:-0500
TZOFFSETTO:-0400
TZNAME:EDT
DTSTART:20220313T070000
END:DAYLIGHT
BEGIN:STANDARD
TZOFFSETFROM:-0400
TZOFFSETTO:-0500
TZNAME:EST
DTSTART:20221106T060000
END:STANDARD
BEGIN:DAYLIGHT
TZOFFSETFROM:-0500
TZOFFSETTO:-0400
TZNAME:EDT
DTSTART:20230312T070000
END:DAYLIGHT
BEGIN:STANDARD
TZOFFSETFROM:-0400
TZOFFSETTO:-0500
TZNAME:EST
DTSTART:20231105T060000
END:STANDARD
END:VTIMEZONE
BEGIN:VTIMEZONE
TZID:America/Toronto
BEGIN:DAYLIGHT
TZOFFSETFROM:-0500
TZOFFSETTO:-0400
TZNAME:EDT
DTSTART:20180311T070000
END:DAYLIGHT
BEGIN:STANDARD
TZOFFSETFROM:-0400
TZOFFSETTO:-0500
TZNAME:EST
DTSTART:20181104T060000
END:STANDARD
BEGIN:DAYLIGHT
TZOFFSETFROM:-0500
TZOFFSETTO:-0400
TZNAME:EDT
DTSTART:20190310T070000
END:DAYLIGHT
BEGIN:STANDARD
TZOFFSETFROM:-0400
TZOFFSETTO:-0500
TZNAME:EST
DTSTART:20191103T060000
END:STANDARD
BEGIN:DAYLIGHT
TZOFFSETFROM:-0500
TZOFFSETTO:-0400
TZNAME:EDT
DTSTART:20200308T070000
END:DAYLIGHT
BEGIN:STANDARD
TZOFFSETFROM:-0400
TZOFFSETTO:-0500
TZNAME:EST
DTSTART:20201101T060000
END:STANDARD
BEGIN:DAYLIGHT
TZOFFSETFROM:-0500
TZOFFSETTO:-0400
TZNAME:EDT
DTSTART:20210314T070000
END:DAYLIGHT
BEGIN:STANDARD
TZOFFSETFROM:-0400
TZOFFSETTO:-0500
TZNAME:EST
DTSTART:20211107T060000
END:STANDARD
BEGIN:DAYLIGHT
TZOFFSETFROM:-0500
TZOFFSETTO:-0400
TZNAME:EDT
DTSTART:20220313T070000
END:DAYLIGHT
BEGIN:STANDARD
TZOFFSETFROM:-0400
TZOFFSETTO:-0500
TZNAME:EST
DTSTART:20221106T060000
END:STANDARD
END:VTIMEZONE
BEGIN:VEVENT
DTSTART;TZID=America/Detroit:20220828T090000
DTEND;TZID=America/Detroit:20220828T170000
DTSTAMP:20260424T114257
CREATED:20220406T001945Z
LAST-MODIFIED:20220826T195013Z
UID:7288-1661677200-1661706000@ledgemeadowsgolfcourse.com
SUMMARY:Big Hole Scramble: August 28
DESCRIPTION:Our popular Big Hole Scramble is back for 2022.   \nTwo-person teams.  This is a fun scramble for all skill levels where the cups are cut twice as big. \nSunday\, August 28th\, 2022  \n9:00am shotgun \nMen: Silver Tees | Seniors 50+: Golf Tees | Super Seniors 75+: Red Tees | Ladies: Red Tees \n18 holes with cart | Lunch\, prizes and skins \n$50 per player \n\n\nPlease call the pro shop at 517-627-7492 to check availability
URL:https://ledgemeadowsgolfcourse.com/event/big-hole-scramble-august-28/
LOCATION:Ledge Meadows Golf Course\, 1801 E Grand Ledge Hwy\, Grand Ledge\, MI\, 48837\, United States
END:VEVENT
BEGIN:VEVENT
DTSTART;TZID=America/Detroit:20220731T090000
DTEND;TZID=America/Detroit:20220731T170000
DTSTAMP:20260424T114257
CREATED:20220406T001941Z
LAST-MODIFIED:20220731T224527Z
UID:7286-1659258000-1659286800@ledgemeadowsgolfcourse.com
SUMMARY:Big Hole Scramble: July 31
DESCRIPTION:Our popular Big Hole Scramble is back for 2022.   \nTwo-person teams.  This is a fun scramble for all skill levels where the cups are cut twice as big. \nSunday\, July 31st\, 2022  \n9:00am shotgun \nMen: Silver Tees | Seniors 50+: Golf Tees | Super Seniors 75+: Red Tees | Ladies: Red Tees \n18 holes with cart | Lunch\, prizes and skins \n$50 per player
URL:https://ledgemeadowsgolfcourse.com/event/big-hole-scramble-july-31/
LOCATION:Ledge Meadows Golf Course\, 1801 E Grand Ledge Hwy\, Grand Ledge\, MI\, 48837\, United States
CATEGORIES:Past
END:VEVENT
BEGIN:VEVENT
DTSTART;TZID=America/Detroit:20220626T090000
DTEND;TZID=America/Detroit:20220626T150000
DTSTAMP:20260424T114257
CREATED:20220406T002538Z
LAST-MODIFIED:20220626T204242Z
UID:7284-1656234000-1656255600@ledgemeadowsgolfcourse.com
SUMMARY:Big Hole Scramble: June 26
DESCRIPTION:Our popular Big Hole Scramble is back for 2022.   \nTwo-person teams.  This is a fun scramble for all skill levels where the cups are cut twice as big. \n9:00am shotgun \nMen: Silver Tees | Seniors 50+: Golf Tees | Super Seniors 75+: Red Tees | Ladies: Red Tees \n18 holes with cart | Lunch\, prizes and skins \n$50 per player per shift
URL:https://ledgemeadowsgolfcourse.com/event/big-hole-scramble-june-26-special-solstice-scramble-event/
LOCATION:Ledge Meadows Golf Course\, 1801 E Grand Ledge Hwy\, Grand Ledge\, MI\, 48837\, United States
CATEGORIES:Past
END:VEVENT
BEGIN:VEVENT
DTSTART;TZID=America/Detroit:20220624T150000
DTEND;TZID=America/Detroit:20220624T190000
DTSTAMP:20260424T114257
CREATED:20220527T151648Z
LAST-MODIFIED:20220527T153607Z
UID:7450-1656082800-1656097200@ledgemeadowsgolfcourse.com
SUMMARY:Callaway Club Fitting Event
DESCRIPTION:Custom Fitting is one of the most important aspects of improving your game. At your free\, one-on-one appointment\, we will work with you to find everything from the right head models\, lofts\, flex\, shafts and weights for you. You’ll leave the fitting feeling confident with equipment that’s customized to your game. \nAll fittings are by appointment only \nSign-up for the Callaway Club Fitting here
URL:https://ledgemeadowsgolfcourse.com/event/callaway-club-fitting-event/
LOCATION:Ledge Meadows Golf Course\, 1801 E Grand Ledge Hwy\, Grand Ledge\, MI\, 48837\, United States
END:VEVENT
BEGIN:VEVENT
DTSTART;TZID=America/Detroit:20220522T090000
DTEND;TZID=America/Detroit:20220522T170000
DTSTAMP:20260424T114257
CREATED:20220406T001913Z
LAST-MODIFIED:20220626T204254Z
UID:7282-1653210000-1653238800@ledgemeadowsgolfcourse.com
SUMMARY:Big Hole Scramble: May 22
DESCRIPTION:Our popular Big Hole Scramble is back for 2022.   \nTwo-person teams.  This is a fun scramble for all skill levels where the cups are cut twice as big. \nSunday\, May 22nd\, 2022  \n9:00am shotgun \nMen: Silver Tees | Seniors 50+: Golf Tees | Super Seniors 75+: Red Tees | Ladies: Red Tees \n18 holes with cart | Lunch\, prizes and skins \n$50 per player \n\n\n\n\n                \n                        InstagramThis field is for validation purposes and should be left unchanged.Player 1 InformationPlayer 1 Name(Required)\n                            \n                            \n                                                    \n                                                    First\n                                                \n                            \n                            \n                                                    \n                                                    Last\n                                                \n                            \n                        Player 1 Email(Required)\n                            \n                        Player 1 Phone(Required)Player 2 InformationPlayer 2 Name(Required)\n                            \n                            \n                                                    \n                                                    First\n                                                \n                            \n                            \n                                                    \n                                                    Last\n                                                \n                            \n                        Player 2 Email\n                            \n                        Player 2 Phone
URL:https://ledgemeadowsgolfcourse.com/event/big-hole-scramble-may-22/
LOCATION:Ledge Meadows Golf Course\, 1801 E Grand Ledge Hwy\, Grand Ledge\, MI\, 48837\, United States
CATEGORIES:Past
END:VEVENT
BEGIN:VEVENT
DTSTART;TZID=America/Detroit:20220424T100000
DTEND;TZID=America/Detroit:20220424T170000
DTSTAMP:20260424T114257
CREATED:20220310T205605Z
LAST-MODIFIED:20220424T201947Z
UID:7276-1650794400-1650819600@ledgemeadowsgolfcourse.com
SUMMARY:Big Hole Scramble: April 24
DESCRIPTION:
URL:https://ledgemeadowsgolfcourse.com/event/big-hole-scramble-april-24/
LOCATION:Ledge Meadows Golf Course\, 1801 E Grand Ledge Hwy\, Grand Ledge\, MI\, 48837\, United States
CATEGORIES:Past
END:VEVENT
BEGIN:VEVENT
DTSTART;TZID=America/Detroit:20211024T100000
DTEND;TZID=America/Detroit:20211024T170000
DTSTAMP:20260424T114257
CREATED:20210926T215341Z
LAST-MODIFIED:20211024T201700Z
UID:7244-1635069600-1635094800@ledgemeadowsgolfcourse.com
SUMMARY:Big Hole Scramble: October 24
DESCRIPTION:
URL:https://ledgemeadowsgolfcourse.com/event/big-hole-scramble-october-24/
LOCATION:MI
END:VEVENT
BEGIN:VEVENT
DTSTART;TZID=America/Detroit:20210926T080000
DTEND;TZID=America/Detroit:20210926T170000
DTSTAMP:20260424T114257
CREATED:20210830T234105Z
LAST-MODIFIED:20210926T215752Z
UID:7227-1632643200-1632675600@ledgemeadowsgolfcourse.com
SUMMARY:Big Hole Scramble: September 26
DESCRIPTION:
URL:https://ledgemeadowsgolfcourse.com/event/big-hole-scramble-september-26/
LOCATION:Ledge Meadows Golf Course\, 1801 E Grand Ledge Hwy\, Grand Ledge\, MI\, 48837\, United States
CATEGORIES:Past
END:VEVENT
BEGIN:VEVENT
DTSTART;TZID=America/Detroit:20210829T090000
DTEND;TZID=America/Detroit:20210829T170000
DTSTAMP:20260424T114257
CREATED:20210728T113827Z
LAST-MODIFIED:20210831T000017Z
UID:7209-1630227600-1630256400@ledgemeadowsgolfcourse.com
SUMMARY:Big Hole Scramble: August 29th
DESCRIPTION:
URL:https://ledgemeadowsgolfcourse.com/event/big-hole-scramble-august-29th/
LOCATION:Ledge Meadows Golf Course\, 1801 E Grand Ledge Hwy\, Grand Ledge\, MI\, 48837\, United States
CATEGORIES:Past
END:VEVENT
BEGIN:VEVENT
DTSTART;TZID=America/Detroit:20210725T090000
DTEND;TZID=America/Detroit:20210725T170000
DTSTAMP:20260424T114257
CREATED:20210801T134657Z
LAST-MODIFIED:20210801T134657Z
UID:7206-1627203600-1627232400@ledgemeadowsgolfcourse.com
SUMMARY:Big Hole Scramble: July 2021 Results
DESCRIPTION:THE RESULTS ARE IN!\nThank you to everyone who participated in July’s Big Hole Scramble\, and a BIG congratulations to all our winners! Please claim your prizes in the Pro Shop.
URL:https://ledgemeadowsgolfcourse.com/event/big-hole-scramble-july-2021-results/
LOCATION:MI
CATEGORIES:Past
END:VEVENT
BEGIN:VEVENT
DTSTART;VALUE=DATE:20210725
DTEND;VALUE=DATE:20210726
DTSTAMP:20260424T114257
CREATED:20210624T145140Z
LAST-MODIFIED:20210830T235620Z
UID:7188-1627171200-1627257599@ledgemeadowsgolfcourse.com
SUMMARY:Big Hole Scramble: July 25th
DESCRIPTION:Sign up for our popular Big Hole Scramble! Two-person teams.  This is a fun scramble for all skill levels where the cups are cut twice as big. \nMen: Silver Tees | Seniors 50+: Golf Tees | Super Seniors 75+: Red Tees | Ladies: Red Tees \n18 holes with cart | Lunch\, prizes and skins \n$49 per player
URL:https://ledgemeadowsgolfcourse.com/event/big-hole-scramble-july-25th/
LOCATION:Ledge Meadows Golf Course\, 1801 E Grand Ledge Hwy\, Grand Ledge\, MI\, 48837\, United States
CATEGORIES:Past
END:VEVENT
BEGIN:VEVENT
DTSTART;TZID=America/Detroit:20210717T120000
DTEND;TZID=America/Detroit:20210717T160000
DTSTAMP:20260424T114257
CREATED:20210706T181403Z
LAST-MODIFIED:20210730T164048Z
UID:7193-1626523200-1626537600@ledgemeadowsgolfcourse.com
SUMMARY:Callaway Factory Club Fitting Day at Fore Ducks Golf Garage
DESCRIPTION:We are excited to host our first Callaway Factory Club Fitting Day here at Fore Ducks Golf Garage\, located next to the driving range at Ledge Meadows Golf Course! \nFactory trained club fitters will be available on site showcasing the all-new 2021 Callaway equipment. This FREE event will allow you to try out the latest and greatest in Callaway clubs\, and find the perfect fit for you. \nSpace is LIMITED! Please reserve your spot by calling Chuck at 517-331-8314.
URL:https://ledgemeadowsgolfcourse.com/event/callaway-factory-club-fitting-day-at-fore-ducks-golf-garage/
LOCATION:Fore Ducks Golf Garage\, 1801 E Grand Ledge Hwy\, Grand Ledge\, MI\, 48837\, United States
CATEGORIES:Past
END:VEVENT
BEGIN:VEVENT
DTSTART;VALUE=DATE:20210627
DTEND;VALUE=DATE:20210628
DTSTAMP:20260424T114257
CREATED:20210522T205127Z
LAST-MODIFIED:20210706T171019Z
UID:7046-1624752000-1624838399@ledgemeadowsgolfcourse.com
SUMMARY:Big Hole Scramble: June 27th
DESCRIPTION:DUE TO THE AMOUNT OF RAIN WE HAVE RECEIVED\, WE UNFORTUNATELY HAVE TO CANCEL THIS EVENT. THE COURSE IS FLOODED IN SEVERAL AREAS. OUR NEXT BIG HOLE SCRAMBLE WILL BE JULY 25th.\nSign up for our popular Big Hole Scramble! \nTwo-person teams.  This is a fun scramble for all skill levels where the cups are cut twice as big. \nThe 9:00am shift has been filled.\nWe still have space for a few teams in the 3:00pm shift.  \nMen: Silver Tees | Seniors 50+: Golf Tees | Super Seniors 75+: Red Tees | Ladies: Red Tees \n18 holes with cart | Lunch\, prizes and skins \n$49 per player
URL:https://ledgemeadowsgolfcourse.com/event/big-hole-scramble-june-27th/
LOCATION:Ledge Meadows Golf Course\, 1801 E Grand Ledge Hwy\, Grand Ledge\, MI\, 48837\, United States
CATEGORIES:Past
END:VEVENT
BEGIN:VEVENT
DTSTART;TZID=America/Detroit:20210523T100000
DTEND;TZID=America/Detroit:20210523T170000
DTSTAMP:20260424T114257
CREATED:20210426T203114Z
LAST-MODIFIED:20210523T224032Z
UID:7022-1621764000-1621789200@ledgemeadowsgolfcourse.com
SUMMARY:Big Hole Scramble: May Results
DESCRIPTION:Our popular Big Hole Scramble is back for 2021!  \nTwo-person teams.  This is a fun scramble for all skill levels where the cups are cut twice as big. \n10:00am shotgun \nMen: Silver Tees | Seniors 50+: Golf Tees | Super Seniors 75+: Red Tees | Ladies: Red Tees \n18 holes with cart | Lunch\, prizes and skins \n$49 per player
URL:https://ledgemeadowsgolfcourse.com/event/big-hole-scramble-05-23/
LOCATION:Ledge Meadows Golf Course\, 1801 E Grand Ledge Hwy\, Grand Ledge\, MI\, 48837\, United States
CATEGORIES:Past
END:VEVENT
BEGIN:VEVENT
DTSTART;TZID=America/Toronto:20210425T080000
DTEND;TZID=America/Toronto:20210425T170000
DTSTAMP:20260424T114257
CREATED:20210314T205034Z
LAST-MODIFIED:20210523T222845Z
UID:6776-1619337600-1619370000@ledgemeadowsgolfcourse.com
SUMMARY:Big Hole Scramble
DESCRIPTION:Start the golf season off with some fun! Our popular Big Hole Scramble is back for 2021.   \nTwo-person teams.  This is a fun scramble for all skill levels where the cups are cut twice as big. \n10:00am shotgun \nMen: Silver Tees | Seniors 50+: Golf Tees | Super Seniors 75+: Red Tees | Ladies: Red Tees \n18 holes with cart | Lunch\, prizes and skins \n$49 per player
URL:https://ledgemeadowsgolfcourse.com/event/big-hole-scramble-04-25/
LOCATION:Ledge Meadows Golf Course\, 1801 E Grand Ledge Hwy\, Grand Ledge\, MI\, 48837\, United States
CATEGORIES:Past
END:VEVENT
BEGIN:VEVENT
DTSTART;TZID=America/Toronto:20201018T100000
DTEND;TZID=America/Toronto:20201018T150000
DTSTAMP:20260424T114257
CREATED:20200927T205536Z
LAST-MODIFIED:20201018T200618Z
UID:6480-1603015200-1603033200@ledgemeadowsgolfcourse.com
SUMMARY:Big Hole Scramble
DESCRIPTION:A bonus Big Hole Scramble! We’ve had so much fun hosting these events that we decided to add another. \nTwo-person teams.  This is a fun scramble for all skill levels where the cups are cut twice as big. \n10:00am shotgun \nMen: Silver Tees | Seniors 50+: Golf Tees | Super Seniors 75+: Red Tees | Ladies: Red Tees \n18 holes with cart | Lunch\, prizes and skins \n$49 per player \n 
URL:https://ledgemeadowsgolfcourse.com/event/big-holes-scramble-10-18-2020/
LOCATION:Ledge Meadows Golf Course\, 1801 E Grand Ledge Hwy\, Grand Ledge\, MI\, 48837\, United States
END:VEVENT
BEGIN:VEVENT
DTSTART;TZID=America/Toronto:20200927T100000
DTEND;TZID=America/Toronto:20200927T150000
DTSTAMP:20260424T114257
CREATED:20200229T222801Z
LAST-MODIFIED:20200924T232610Z
UID:6195-1601200800-1601218800@ledgemeadowsgolfcourse.com
SUMMARY:Big Hole Scramble
DESCRIPTION:Our final Big Hole Scramble of 2020. Two-person teams.  This is a fun scramble for all skill levels where the cups are cut twice as big. \n10:00am shotgun \nMen: Silver Tees | Seniors 50+: Golf Tees | Super Seniors 75+: Red Tees | Ladies: Red Tees \n18 holes with cart | Lunch\, prizes and skins \n$49 per player \n  \n\nSign-up is full.
URL:https://ledgemeadowsgolfcourse.com/event/big-hole-scramble-09-27-2020/
LOCATION:Ledge Meadows Golf Course\, 1801 E Grand Ledge Hwy\, Grand Ledge\, MI\, 48837\, United States
END:VEVENT
BEGIN:VEVENT
DTSTART;TZID=America/Toronto:20200830T090000
DTEND;TZID=America/Toronto:20200830T140000
DTSTAMP:20260424T114257
CREATED:20200229T222708Z
LAST-MODIFIED:20200825T124712Z
UID:6192-1598778000-1598796000@ledgemeadowsgolfcourse.com
SUMMARY:Big Hole Scramble
DESCRIPTION:Our August Big Hole Scramble of 2020. Two-person teams.  This is a fun scramble for all skill levels. \nSunday\, August 30th\, 2020 9:00am shotgun \nMen: Silver Tees | Seniors 50+: Golf Tees | Super Seniors 75+: Red Tees | Ladies: Red Tees \n18 holes with cart | Lunch\, prizes and skins \n$49 per player \n \n\n \nSign Up\n\nThis event is likely full. Please call us directly at 517-627-7492 to see if there are still spots available.
URL:https://ledgemeadowsgolfcourse.com/event/big-hole-scramble-08-30-2020/
LOCATION:Ledge Meadows Golf Course\, 1801 E Grand Ledge Hwy\, Grand Ledge\, MI\, 48837\, United States
END:VEVENT
BEGIN:VEVENT
DTSTART;TZID=America/Toronto:20200726T090000
DTEND;TZID=America/Toronto:20200726T140000
DTSTAMP:20260424T114257
CREATED:20200229T222613Z
LAST-MODIFIED:20200726T221912Z
UID:6189-1595754000-1595772000@ledgemeadowsgolfcourse.com
SUMMARY:Big Hole Scramble
DESCRIPTION:Our July Big Hole Scramble of 2020. Two-person teams.  This is a fun scramble for all skill levels where the cups are cut twice as big.  \nSunday\, July 26th 9:00am shotgun \nMen: Silver Tees | Seniors 50+: Golf Tees | Super Seniors 75+: Red Tees | Ladies: Red Tees \n18 holes with cart | Lunch\, prizes and skins \n$49 per player\n \n\n \nResults
URL:https://ledgemeadowsgolfcourse.com/event/big-hole-scramble-07-26-2020/
LOCATION:Ledge Meadows Golf Course\, 1801 E Grand Ledge Hwy\, Grand Ledge\, MI\, 48837\, United States
END:VEVENT
BEGIN:VEVENT
DTSTART;TZID=America/Toronto:20200628T090000
DTEND;TZID=America/Toronto:20200628T140000
DTSTAMP:20260424T114257
CREATED:20200229T222456Z
LAST-MODIFIED:20200628T214050Z
UID:6186-1593334800-1593352800@ledgemeadowsgolfcourse.com
SUMMARY:Big Hole Scramble
DESCRIPTION:Our June Big Hole Scramble of 2020. Two-person teams.  This is a fun scramble for all skill levels where the cups are cut twice as big.  \nSunday\, June 28th 9:00am shotgun \nMen: Silver Tees | Seniors 50+: Golf Tees | Super Seniors 75+: Red Tees | Ladies: Red Tees \n18 holes with cart | Lunch\, prizes and skins \n$49 per player\n \n\n \nResults\nWe had a wonderful time seeing everybody! Here are the results from the June Big Hole Scramble.  If you are a lucky winner\, gift certificates are waiting for you in the pro shop.  We look forward to seeing you for the next Big Hole Scramble the last Sunday in July. Sign Up for July’s event
URL:https://ledgemeadowsgolfcourse.com/event/big-hole-scramble-06-28-2020/
LOCATION:Ledge Meadows Golf Course\, 1801 E Grand Ledge Hwy\, Grand Ledge\, MI\, 48837\, United States
END:VEVENT
BEGIN:VEVENT
DTSTART;VALUE=DATE:20200201
DTEND;VALUE=DATE:20200215
DTSTAMP:20260424T114257
CREATED:20200129T041442Z
LAST-MODIFIED:20200129T041442Z
UID:6114-1580515200-1581724799@ledgemeadowsgolfcourse.com
SUMMARY:Valentine's Gift Card Special
DESCRIPTION:Because the heart wants what the heart wants…\nWhat’s better than their favorite golf course?\nEnjoy $10 off $50 gift cards from February 1-14!\nBUY NOW!\n—\nBecome a Member!\nCan’t get enough of us? Become a member and save more on each round you play! \nWith multiple membership options to choose from\, it has never been quite so easy to join. Click below to explore membership options:\nCLICK HERE!
URL:https://ledgemeadowsgolfcourse.com/event/valentines-gift-card-special/
LOCATION:Ledge Meadows Golf Course\, 1801 E Grand Ledge Hwy\, Grand Ledge\, MI\, 48837\, United States
ATTACH;FMTTYPE=image/png:https://ledgemeadowsgolfcourse.com/wp-content/uploads/2020/01/Vday-General-FB-Event-e1580271243365.png
END:VEVENT
BEGIN:VEVENT
DTSTART;VALUE=DATE:20190825
DTEND;VALUE=DATE:20190826
DTSTAMP:20260424T114257
CREATED:20190718T175841Z
LAST-MODIFIED:20190718T175841Z
UID:5962-1566691200-1566777599@ledgemeadowsgolfcourse.com
SUMMARY:TWO (2) PERSON BIG HOLE SCRAMBLE!
DESCRIPTION:TWO (2) PERSON BIG HOLE SCRAMBLE!\nAUGUST 25TH \n8:30 SHOTGUN\nMEN-SILVER TEES SENIORS 50+ GOLD TEES\nSUPER SENIORS 75+/LADIES RED TEES \n$45 PER PLAYER INCLUDES\n18 HOLES WITH CART\,\nLUNCH\, PRIZES AND SKINS \n  \nClick here for the flyer.
URL:https://ledgemeadowsgolfcourse.com/event/two-2-person-big-hole-scramble/
LOCATION:MI
END:VEVENT
BEGIN:VEVENT
DTSTART;VALUE=DATE:20190727
DTEND;VALUE=DATE:20190728
DTSTAMP:20260424T114257
CREATED:20190325T004048Z
LAST-MODIFIED:20190325T004716Z
UID:5732-1564185600-1564271999@ledgemeadowsgolfcourse.com
SUMMARY:Harley Beatty Foundation 17th Annual Golf Outing
DESCRIPTION:
URL:https://ledgemeadowsgolfcourse.com/event/harley-beatty-foundation-17th-annual-golf-outing/
LOCATION:MI
END:VEVENT
BEGIN:VEVENT
DTSTART;VALUE=DATE:20190720
DTEND;VALUE=DATE:20190721
DTSTAMP:20260424T114257
CREATED:20190325T004504Z
LAST-MODIFIED:20190325T004629Z
UID:5736-1563580800-1563667199@ledgemeadowsgolfcourse.com
SUMMARY:13th Annual Golf for Gordie
DESCRIPTION:Brandon’s Defense is a 501(c)(3) nonprofit foundation created in honor of Brandon Gordon “Gordie #22” (12/22/92 ~ 2/22/09). It has been a decade since Brandon lost his heroic battle with cancer; however his spirit lives on through “Brandon’s Defense”. The foundation’s mission is to increase awareness of childhood cancer\, fund pediatric cancer research and help children and their families through their cancer journey. All of our initiatives are accomplished by the generosity of volunteers! These efforts are achieved through this fundraiser and by collaboration with individuals and organizations that share a similar vision. Your support helps bring that vision to reality. \nSponsorship Levels: \n___ Raffle/Silent Auction Prize \n___ Player Sponsor ($100) \n___ Golf Program Sponsor ($200) — Company/name on the golf program \n___ Hole Sponsor ($300) — Company/name on the golf program & a hole \n___ Foundation Sponsor ($500) — Company/name logo on the golf program\, on a hole and on Brandon’s Defense website welcome page. \n___ Diamond Sponsor ($1\,000) — Company/name logo on the golf program\, on a hole\, on the foundation’s website welcome page and all other fundraising events for 2019.
URL:https://ledgemeadowsgolfcourse.com/event/13th-annual-golf-for-gordie/
LOCATION:Ledge Meadows Golf Course\, 1801 E Grand Ledge Hwy\, Grand Ledge\, MI\, 48837\, United States
ORGANIZER;CN="Brandon's Defense Foundation":MAILTO:brandonsdefense@gmail.com
END:VEVENT
BEGIN:VEVENT
DTSTART;VALUE=DATE:20190712
DTEND;VALUE=DATE:20190713
DTSTAMP:20260424T114257
CREATED:20190325T003303Z
LAST-MODIFIED:20190325T003303Z
UID:5726-1562889600-1562975999@ledgemeadowsgolfcourse.com
SUMMARY:TPA Post I of Michigan Annual Golf Outing
DESCRIPTION:Please Join Post I of TPA’s Michigan Division for a Lovely round of Golf \nPrice: $50 per person\, includes : Golf Cart\, 5 Skill Holes\, Prizes\, Lunch and Dinner \nFor more information contact Post Secretary: wayne@thewentworths.com
URL:https://ledgemeadowsgolfcourse.com/event/tpa-post-i-of-michigan-annual-golf-outing/
LOCATION:Ledge Meadows Golf Course\, 1801 E Grand Ledge Hwy\, Grand Ledge\, MI\, 48837\, United States
END:VEVENT
END:VCALENDAR