BEGIN:VCALENDAR
VERSION:2.0
PRODID:-//Ledge Meadows Golf Course - ECPv6.15.20//NONSGML v1.0//EN
CALSCALE:GREGORIAN
METHOD:PUBLISH
X-WR-CALNAME:Ledge Meadows Golf Course
X-ORIGINAL-URL:https://ledgemeadowsgolfcourse.com
X-WR-CALDESC:Events for Ledge Meadows Golf Course
REFRESH-INTERVAL;VALUE=DURATION:PT1H
X-Robots-Tag:noindex
X-PUBLISHED-TTL:PT1H
BEGIN:VTIMEZONE
TZID:America/Detroit
BEGIN:DAYLIGHT
TZOFFSETFROM:-0500
TZOFFSETTO:-0400
TZNAME:EDT
DTSTART:20200308T070000
END:DAYLIGHT
BEGIN:STANDARD
TZOFFSETFROM:-0400
TZOFFSETTO:-0500
TZNAME:EST
DTSTART:20201101T060000
END:STANDARD
BEGIN:DAYLIGHT
TZOFFSETFROM:-0500
TZOFFSETTO:-0400
TZNAME:EDT
DTSTART:20210314T070000
END:DAYLIGHT
BEGIN:STANDARD
TZOFFSETFROM:-0400
TZOFFSETTO:-0500
TZNAME:EST
DTSTART:20211107T060000
END:STANDARD
BEGIN:DAYLIGHT
TZOFFSETFROM:-0500
TZOFFSETTO:-0400
TZNAME:EDT
DTSTART:20220313T070000
END:DAYLIGHT
BEGIN:STANDARD
TZOFFSETFROM:-0400
TZOFFSETTO:-0500
TZNAME:EST
DTSTART:20221106T060000
END:STANDARD
BEGIN:DAYLIGHT
TZOFFSETFROM:-0500
TZOFFSETTO:-0400
TZNAME:EDT
DTSTART:20230312T070000
END:DAYLIGHT
BEGIN:STANDARD
TZOFFSETFROM:-0400
TZOFFSETTO:-0500
TZNAME:EST
DTSTART:20231105T060000
END:STANDARD
END:VTIMEZONE
BEGIN:VTIMEZONE
TZID:America/Toronto
BEGIN:DAYLIGHT
TZOFFSETFROM:-0500
TZOFFSETTO:-0400
TZNAME:EDT
DTSTART:20200308T070000
END:DAYLIGHT
BEGIN:STANDARD
TZOFFSETFROM:-0400
TZOFFSETTO:-0500
TZNAME:EST
DTSTART:20201101T060000
END:STANDARD
BEGIN:DAYLIGHT
TZOFFSETFROM:-0500
TZOFFSETTO:-0400
TZNAME:EDT
DTSTART:20210314T070000
END:DAYLIGHT
BEGIN:STANDARD
TZOFFSETFROM:-0400
TZOFFSETTO:-0500
TZNAME:EST
DTSTART:20211107T060000
END:STANDARD
BEGIN:DAYLIGHT
TZOFFSETFROM:-0500
TZOFFSETTO:-0400
TZNAME:EDT
DTSTART:20220313T070000
END:DAYLIGHT
BEGIN:STANDARD
TZOFFSETFROM:-0400
TZOFFSETTO:-0500
TZNAME:EST
DTSTART:20221106T060000
END:STANDARD
END:VTIMEZONE
BEGIN:VEVENT
DTSTART;TZID=America/Detroit:20220925T100000
DTEND;TZID=America/Detroit:20220925T170000
DTSTAMP:20260424T141546
CREATED:20220406T001949Z
LAST-MODIFIED:20220925T212756Z
UID:7290-1664100000-1664125200@ledgemeadowsgolfcourse.com
SUMMARY:Big Hole Scramble: September 25
DESCRIPTION:Our popular Big Hole Scramble is back for 2022.   \nTwo-person teams.  This is a fun scramble for all skill levels where the cups are cut twice as big. \nSunday\, September 25th\, 2022  \n10:00am shotgun \nMen: Silver Tees | Seniors 50+: Golf Tees | Super Seniors 75+: Red Tees | Ladies: Red Tees \n18 holes with cart | Lunch\, prizes and skins \n$50 per player
URL:https://ledgemeadowsgolfcourse.com/event/big-hole-scramble-september-25/
LOCATION:Ledge Meadows Golf Course\, 1801 E Grand Ledge Hwy\, Grand Ledge\, MI\, 48837\, United States
CATEGORIES:Past
END:VEVENT
BEGIN:VEVENT
DTSTART;TZID=America/Detroit:20220731T090000
DTEND;TZID=America/Detroit:20220731T170000
DTSTAMP:20260424T141546
CREATED:20220406T001941Z
LAST-MODIFIED:20220731T224527Z
UID:7286-1659258000-1659286800@ledgemeadowsgolfcourse.com
SUMMARY:Big Hole Scramble: July 31
DESCRIPTION:Our popular Big Hole Scramble is back for 2022.   \nTwo-person teams.  This is a fun scramble for all skill levels where the cups are cut twice as big. \nSunday\, July 31st\, 2022  \n9:00am shotgun \nMen: Silver Tees | Seniors 50+: Golf Tees | Super Seniors 75+: Red Tees | Ladies: Red Tees \n18 holes with cart | Lunch\, prizes and skins \n$50 per player
URL:https://ledgemeadowsgolfcourse.com/event/big-hole-scramble-july-31/
LOCATION:Ledge Meadows Golf Course\, 1801 E Grand Ledge Hwy\, Grand Ledge\, MI\, 48837\, United States
CATEGORIES:Past
END:VEVENT
BEGIN:VEVENT
DTSTART;TZID=America/Detroit:20220626T090000
DTEND;TZID=America/Detroit:20220626T150000
DTSTAMP:20260424T141546
CREATED:20220406T002538Z
LAST-MODIFIED:20220626T204242Z
UID:7284-1656234000-1656255600@ledgemeadowsgolfcourse.com
SUMMARY:Big Hole Scramble: June 26
DESCRIPTION:Our popular Big Hole Scramble is back for 2022.   \nTwo-person teams.  This is a fun scramble for all skill levels where the cups are cut twice as big. \n9:00am shotgun \nMen: Silver Tees | Seniors 50+: Golf Tees | Super Seniors 75+: Red Tees | Ladies: Red Tees \n18 holes with cart | Lunch\, prizes and skins \n$50 per player per shift
URL:https://ledgemeadowsgolfcourse.com/event/big-hole-scramble-june-26-special-solstice-scramble-event/
LOCATION:Ledge Meadows Golf Course\, 1801 E Grand Ledge Hwy\, Grand Ledge\, MI\, 48837\, United States
CATEGORIES:Past
END:VEVENT
BEGIN:VEVENT
DTSTART;TZID=America/Detroit:20220522T090000
DTEND;TZID=America/Detroit:20220522T170000
DTSTAMP:20260424T141546
CREATED:20220406T001913Z
LAST-MODIFIED:20220626T204254Z
UID:7282-1653210000-1653238800@ledgemeadowsgolfcourse.com
SUMMARY:Big Hole Scramble: May 22
DESCRIPTION:Our popular Big Hole Scramble is back for 2022.   \nTwo-person teams.  This is a fun scramble for all skill levels where the cups are cut twice as big. \nSunday\, May 22nd\, 2022  \n9:00am shotgun \nMen: Silver Tees | Seniors 50+: Golf Tees | Super Seniors 75+: Red Tees | Ladies: Red Tees \n18 holes with cart | Lunch\, prizes and skins \n$50 per player \n\n\n\n\n                \n                        LinkedInThis field is for validation purposes and should be left unchanged.Player 1 InformationPlayer 1 Name(Required)\n                            \n                            \n                                                    \n                                                    First\n                                                \n                            \n                            \n                                                    \n                                                    Last\n                                                \n                            \n                        Player 1 Email(Required)\n                            \n                        Player 1 Phone(Required)Player 2 InformationPlayer 2 Name(Required)\n                            \n                            \n                                                    \n                                                    First\n                                                \n                            \n                            \n                                                    \n                                                    Last\n                                                \n                            \n                        Player 2 Email\n                            \n                        Player 2 Phone
URL:https://ledgemeadowsgolfcourse.com/event/big-hole-scramble-may-22/
LOCATION:Ledge Meadows Golf Course\, 1801 E Grand Ledge Hwy\, Grand Ledge\, MI\, 48837\, United States
CATEGORIES:Past
END:VEVENT
BEGIN:VEVENT
DTSTART;TZID=America/Detroit:20220424T100000
DTEND;TZID=America/Detroit:20220424T170000
DTSTAMP:20260424T141546
CREATED:20220310T205605Z
LAST-MODIFIED:20220424T201947Z
UID:7276-1650794400-1650819600@ledgemeadowsgolfcourse.com
SUMMARY:Big Hole Scramble: April 24
DESCRIPTION:
URL:https://ledgemeadowsgolfcourse.com/event/big-hole-scramble-april-24/
LOCATION:Ledge Meadows Golf Course\, 1801 E Grand Ledge Hwy\, Grand Ledge\, MI\, 48837\, United States
CATEGORIES:Past
END:VEVENT
BEGIN:VEVENT
DTSTART;TZID=America/Detroit:20210926T080000
DTEND;TZID=America/Detroit:20210926T170000
DTSTAMP:20260424T141546
CREATED:20210830T234105Z
LAST-MODIFIED:20210926T215752Z
UID:7227-1632643200-1632675600@ledgemeadowsgolfcourse.com
SUMMARY:Big Hole Scramble: September 26
DESCRIPTION:
URL:https://ledgemeadowsgolfcourse.com/event/big-hole-scramble-september-26/
LOCATION:Ledge Meadows Golf Course\, 1801 E Grand Ledge Hwy\, Grand Ledge\, MI\, 48837\, United States
CATEGORIES:Past
END:VEVENT
BEGIN:VEVENT
DTSTART;TZID=America/Detroit:20210829T090000
DTEND;TZID=America/Detroit:20210829T170000
DTSTAMP:20260424T141546
CREATED:20210728T113827Z
LAST-MODIFIED:20210831T000017Z
UID:7209-1630227600-1630256400@ledgemeadowsgolfcourse.com
SUMMARY:Big Hole Scramble: August 29th
DESCRIPTION:
URL:https://ledgemeadowsgolfcourse.com/event/big-hole-scramble-august-29th/
LOCATION:Ledge Meadows Golf Course\, 1801 E Grand Ledge Hwy\, Grand Ledge\, MI\, 48837\, United States
CATEGORIES:Past
END:VEVENT
BEGIN:VEVENT
DTSTART;TZID=America/Detroit:20210725T090000
DTEND;TZID=America/Detroit:20210725T170000
DTSTAMP:20260424T141546
CREATED:20210801T134657Z
LAST-MODIFIED:20210801T134657Z
UID:7206-1627203600-1627232400@ledgemeadowsgolfcourse.com
SUMMARY:Big Hole Scramble: July 2021 Results
DESCRIPTION:THE RESULTS ARE IN!\nThank you to everyone who participated in July’s Big Hole Scramble\, and a BIG congratulations to all our winners! Please claim your prizes in the Pro Shop.
URL:https://ledgemeadowsgolfcourse.com/event/big-hole-scramble-july-2021-results/
LOCATION:MI
CATEGORIES:Past
END:VEVENT
BEGIN:VEVENT
DTSTART;VALUE=DATE:20210725
DTEND;VALUE=DATE:20210726
DTSTAMP:20260424T141546
CREATED:20210624T145140Z
LAST-MODIFIED:20210830T235620Z
UID:7188-1627171200-1627257599@ledgemeadowsgolfcourse.com
SUMMARY:Big Hole Scramble: July 25th
DESCRIPTION:Sign up for our popular Big Hole Scramble! Two-person teams.  This is a fun scramble for all skill levels where the cups are cut twice as big. \nMen: Silver Tees | Seniors 50+: Golf Tees | Super Seniors 75+: Red Tees | Ladies: Red Tees \n18 holes with cart | Lunch\, prizes and skins \n$49 per player
URL:https://ledgemeadowsgolfcourse.com/event/big-hole-scramble-july-25th/
LOCATION:Ledge Meadows Golf Course\, 1801 E Grand Ledge Hwy\, Grand Ledge\, MI\, 48837\, United States
CATEGORIES:Past
END:VEVENT
BEGIN:VEVENT
DTSTART;TZID=America/Detroit:20210717T120000
DTEND;TZID=America/Detroit:20210717T160000
DTSTAMP:20260424T141546
CREATED:20210706T181403Z
LAST-MODIFIED:20210730T164048Z
UID:7193-1626523200-1626537600@ledgemeadowsgolfcourse.com
SUMMARY:Callaway Factory Club Fitting Day at Fore Ducks Golf Garage
DESCRIPTION:We are excited to host our first Callaway Factory Club Fitting Day here at Fore Ducks Golf Garage\, located next to the driving range at Ledge Meadows Golf Course! \nFactory trained club fitters will be available on site showcasing the all-new 2021 Callaway equipment. This FREE event will allow you to try out the latest and greatest in Callaway clubs\, and find the perfect fit for you. \nSpace is LIMITED! Please reserve your spot by calling Chuck at 517-331-8314.
URL:https://ledgemeadowsgolfcourse.com/event/callaway-factory-club-fitting-day-at-fore-ducks-golf-garage/
LOCATION:Fore Ducks Golf Garage\, 1801 E Grand Ledge Hwy\, Grand Ledge\, MI\, 48837\, United States
CATEGORIES:Past
END:VEVENT
BEGIN:VEVENT
DTSTART;VALUE=DATE:20210627
DTEND;VALUE=DATE:20210628
DTSTAMP:20260424T141546
CREATED:20210522T205127Z
LAST-MODIFIED:20210706T171019Z
UID:7046-1624752000-1624838399@ledgemeadowsgolfcourse.com
SUMMARY:Big Hole Scramble: June 27th
DESCRIPTION:DUE TO THE AMOUNT OF RAIN WE HAVE RECEIVED\, WE UNFORTUNATELY HAVE TO CANCEL THIS EVENT. THE COURSE IS FLOODED IN SEVERAL AREAS. OUR NEXT BIG HOLE SCRAMBLE WILL BE JULY 25th.\nSign up for our popular Big Hole Scramble! \nTwo-person teams.  This is a fun scramble for all skill levels where the cups are cut twice as big. \nThe 9:00am shift has been filled.\nWe still have space for a few teams in the 3:00pm shift.  \nMen: Silver Tees | Seniors 50+: Golf Tees | Super Seniors 75+: Red Tees | Ladies: Red Tees \n18 holes with cart | Lunch\, prizes and skins \n$49 per player
URL:https://ledgemeadowsgolfcourse.com/event/big-hole-scramble-june-27th/
LOCATION:Ledge Meadows Golf Course\, 1801 E Grand Ledge Hwy\, Grand Ledge\, MI\, 48837\, United States
CATEGORIES:Past
END:VEVENT
BEGIN:VEVENT
DTSTART;TZID=America/Detroit:20210523T100000
DTEND;TZID=America/Detroit:20210523T170000
DTSTAMP:20260424T141546
CREATED:20210426T203114Z
LAST-MODIFIED:20210523T224032Z
UID:7022-1621764000-1621789200@ledgemeadowsgolfcourse.com
SUMMARY:Big Hole Scramble: May Results
DESCRIPTION:Our popular Big Hole Scramble is back for 2021!  \nTwo-person teams.  This is a fun scramble for all skill levels where the cups are cut twice as big. \n10:00am shotgun \nMen: Silver Tees | Seniors 50+: Golf Tees | Super Seniors 75+: Red Tees | Ladies: Red Tees \n18 holes with cart | Lunch\, prizes and skins \n$49 per player
URL:https://ledgemeadowsgolfcourse.com/event/big-hole-scramble-05-23/
LOCATION:Ledge Meadows Golf Course\, 1801 E Grand Ledge Hwy\, Grand Ledge\, MI\, 48837\, United States
CATEGORIES:Past
END:VEVENT
BEGIN:VEVENT
DTSTART;TZID=America/Toronto:20210425T080000
DTEND;TZID=America/Toronto:20210425T170000
DTSTAMP:20260424T141546
CREATED:20210314T205034Z
LAST-MODIFIED:20210523T222845Z
UID:6776-1619337600-1619370000@ledgemeadowsgolfcourse.com
SUMMARY:Big Hole Scramble
DESCRIPTION:Start the golf season off with some fun! Our popular Big Hole Scramble is back for 2021.   \nTwo-person teams.  This is a fun scramble for all skill levels where the cups are cut twice as big. \n10:00am shotgun \nMen: Silver Tees | Seniors 50+: Golf Tees | Super Seniors 75+: Red Tees | Ladies: Red Tees \n18 holes with cart | Lunch\, prizes and skins \n$49 per player
URL:https://ledgemeadowsgolfcourse.com/event/big-hole-scramble-04-25/
LOCATION:Ledge Meadows Golf Course\, 1801 E Grand Ledge Hwy\, Grand Ledge\, MI\, 48837\, United States
CATEGORIES:Past
END:VEVENT
END:VCALENDAR